BEGIN:VCALENDAR
PRODID:-//eluceo/ical//2.0/EN
VERSION:2.0
CALSCALE:GREGORIAN
BEGIN:VEVENT
UID:ff2e48ec4f8bc3d9972ebce3477c0c98
DTSTAMP:20260420T144347Z
SUMMARY:AMTSÜBERGABE
DESCRIPTION:
URL:https://bern.rotary1990.ch/es/agenda/show/207232
DTSTART;TZID=Europe/Zurich:20260623T180000
DTEND;TZID=Europe/Zurich:20260623T220000
LOCATION:Gemäss speziellem Programm
CATEGORIES:Rotary
END:VEVENT
BEGIN:VTIMEZONE
TZID:Europe/Zurich
BEGIN:DAYLIGHT
DTSTART:20260623T180000
TZNAME:CEST
TZOFFSETTO:+0200
TZOFFSETFROM:+0200
END:DAYLIGHT
END:VTIMEZONE
END:VCALENDAR
