BEGIN:VCALENDAR
PRODID:-//eluceo/ical//2.0/EN
VERSION:2.0
CALSCALE:GREGORIAN
BEGIN:VEVENT
UID:a2c8de8553e70b7db39ea575f79acef7
DTSTAMP:20260425T153619Z
SUMMARY:Auf dem Weg zur Zweistaatenlösung in Palästina: Handelspolitische
  Herausforderungen
DESCRIPTION:Orador(es): Rot. Thomas Cottier
URL:https://bern.rotary1990.ch/es/agenda/show/13156
DTSTART;TZID=Europe/Zurich:20100209T000000
DTEND;TZID=Europe/Zurich:20100209T000000
LOCATION:Hotel Bellevue Palace
CATEGORIES:Rotary
END:VEVENT
BEGIN:VTIMEZONE
TZID:Europe/Zurich
BEGIN:STANDARD
DTSTART:20100209T000000
TZNAME:CET
TZOFFSETTO:+0100
TZOFFSETFROM:+0100
END:STANDARD
END:VTIMEZONE
END:VCALENDAR
